BEGIN:VCALENDAR
VERSION:2.0
PRODID:-//Tukios.com/
BEGIN:VEVENT
UID:24c2827b-6deb-409b-8421-6926062d09b9@www.blessingfuneralhome.net
DTSTAMP:20260420T231542Z
DTSTART:20260501T220000Z
DTEND:20260502T000000Z
SUMMARY:Visitation
DESCRIPTION:
URL:https://www.blessingfuneralhome.net/obituaries/jackie-james
LOCATION: 401 Elm St  Mansfield TX 76063
GEO:32.5652498;-97.1383089
END:VEVENT
END:VCALENDAR