BEGIN:VCALENDAR
VERSION:2.0
PRODID:-//Tukios.com/
BEGIN:VEVENT
UID:b398ee2d-00b1-47f5-b6a7-747c14fdc557@www.blessingfuneralhome.net
DTSTAMP:20260420T231835Z
DTSTART:20260502T160000Z
DTEND:20260502T170000Z
SUMMARY:Funeral Service
DESCRIPTION:
URL:https://www.blessingfuneralhome.net/obituaries/jackie-james
LOCATION: 401 Elm St  Mansfield TX 76063
GEO:32.5652498;-97.1383089
END:VEVENT
END:VCALENDAR