BEGIN:VCALENDAR
VERSION:2.0
PRODID:-//Tukios.com/
BEGIN:VEVENT
UID:52dd8506-6318-48d4-9c22-8778ed8c54e0@www.blessingfuneralhome.net
DTSTAMP:20260420T232112Z
DTSTART:20260502T190000Z
DTEND:20260502T200000Z
SUMMARY:Burial
DESCRIPTION:
URL:https://www.blessingfuneralhome.net/obituaries/jackie-james
LOCATION:Acton Cemetery 3628 Fall Creek Hwy  Granbury TX 76049
GEO:32.4402452;-97.684996
END:VEVENT
END:VCALENDAR